BEGIN:VCALENDAR
VERSION:2.0
PRODID:https://gar-nrw.de/
NAME:GAR NRW
X-WR-CALNAME:GAR NRW
BEGIN:VTIMEZONE
TZID:Europe/Berlin
BEGIN:STANDARD
DTSTART:20221030T030000
TZOFFSETFROM:+0200
TZOFFSETTO:+0100
END:STANDARD
BEGIN:DAYLIGHT
DTSTART:20230326T010000
TZOFFSETFROM:+0100
TZOFFSETTO:+0200
END:DAYLIGHT
BEGIN:STANDARD
DTSTART:20231029T030000
TZOFFSETFROM:+0200
TZOFFSETTO:+0100
END:STANDARD
END:VTIMEZONE
BEGIN:VTIMEZONE
TZID:UTC
BEGIN:STANDARD
DTSTART:20250727T085457
TZOFFSETFROM:+0000
TZOFFSETTO:+0000
END:STANDARD
END:VTIMEZONE
BEGIN:VEVENT
UID:69e9de6127d20
DTSTAMP:20260423T085457Z
SUMMARY:Wie kann ich Veranstaltungen aktiver gestalten? Grundlagen der Sitz
 ungsleitung
DESCRIPTION:\"Ich freue mich sehr\, Euch durch dieses Treffen zu leiten!\" 
 Diesen Satz hören viele ehrenamtlich Engagierte regelmäßig - und meiste
 ns folgen dieser Floskel auch Taten. Aber es passiert manchmal auch das Ge
 genteil: Eine schlecht vorbereitete Moderation\, lange Monologe von einzel
 nen Teilnehmenden\, große Verzögerungen im Ablauf und im schlimmsten Fal
 l auch keine Struktur und viele Wiederholungen in der Diskussion. Das soll
  Euch nicht passieren! Unser Online-Seminar zeigt euch\, wie ihr euch auf 
 die Moderation einer Onlineveranstaltung vorbereiten könnt - egal ob es s
 ich dabei um ein kurzes Meeting oder eine Versammlung mit vielen Personen 
 handelt.\nDies ist eine Kooperation mit der Heinrich-Böll-Stiftung NRW.\n
 Anmeldung
LOCATION:
URL:https://gar-nrw.de/seminare/wie-kann-ich-veranstaltungen-aktiver-gestal
 ten-grundlagen-der-sitzungsleitung-2
DTSTART;TZID=Europe/Berlin:20230606T100000
DTEND;TZID=Europe/Berlin:20230607T160000
END:VEVENT
END:VCALENDAR