BEGIN:VCALENDAR
VERSION:2.0
PRODID:https://gar-nrw.de/
NAME:GAR NRW
X-WR-CALNAME:GAR NRW
BEGIN:VTIMEZONE
TZID:Europe/Berlin
BEGIN:DAYLIGHT
DTSTART:20230326T010000
TZOFFSETFROM:+0100
TZOFFSETTO:+0200
END:DAYLIGHT
BEGIN:STANDARD
DTSTART:20231029T030000
TZOFFSETFROM:+0200
TZOFFSETTO:+0100
END:STANDARD
BEGIN:DAYLIGHT
DTSTART:20240331T010000
TZOFFSETFROM:+0100
TZOFFSETTO:+0200
END:DAYLIGHT
END:VTIMEZONE
BEGIN:VTIMEZONE
TZID:UTC
BEGIN:STANDARD
DTSTART:20250725T083249
TZOFFSETFROM:+0000
TZOFFSETTO:+0000
END:STANDARD
END:VTIMEZONE
BEGIN:VEVENT
UID:69e73631ed1a2
DTSTAMP:20260421T083249Z
SUMMARY:Auftakt für das Frauen-Mentoring - werde Initiatorin vor Ort!
DESCRIPTION:Nach der Zwischenbilanz ist vor der Listenaufstellung\n \n \n \
 n \n \n \n \nAllem Anfang wohnt angeblich ein Zauber inne. Die Vergangenhe
 it hat gezeigt\, man kann nicht früh genug damit anfangen\, Kandidatinnen
  für die Listen zur Kommunalwahl zu suchen. \nSeit vielen Jahren sind Men
 toring Programme fester und erfolgreicher Bestandteil von Nachwuchsförder
 pro-grammen\, die vor allem Frauen den Einstieg in die Politik erleichtern
 . Auch wenn bei Grünen u.a. durch die Quote Frauen in Ämtern gleichberec
 htigt repräsentiert sind\, zeigt sich vor den Listenaufstellungen für Be
 zirksvertretungen\, Räte und Kreistage immer wieder\, dass Frauen für di
 e Listen fehlen und es schwerer fällt Frauen für ein Mandat oder ein pol
 itisches Amt zu gewinnen. \nDies hängt oft mit einem weniger ausgeprägte
 n Selbstvertrauen oder mit den eigenen hohen Ansprüchen die Frauen an sic
 h haben zusammen. Oder damit\, dass Frauen sich nicht vorstellen könne\, 
 woher sie neben Job und Sorgearbeit noch Zeit für das Ehrenamt nehmen sol
 len.\nUm eine realistische Einschätzung der Anforderung zu bekommen ist d
 as Mentoring ideal. Denn hier gibt es die Möglichkeit sich durch die Weit
 ergabe von Erfahrungen von erfahrener Person (Mentorin) zu interessierter 
 Person (Mentee) auf die Rolle vorzubereiten.\nWir möchten Euch dazu anreg
 en\, einen Mentoring Prozess für Frauen vor Ort zu initiieren und auf den
  Weg zu bringen. Dafür geben wir Euch alles Notwendige an die Hand und st
 arten noch in diesem Jahr. 
LOCATION:Marktpl. 2\, 40213 Düsseldorf\, Deutschland
URL:https://gar-nrw.de/seminare/auftakt-fuer-das-frauen-mentoring-werde-ini
 tiatorin-vor-ort
DTSTART;TZID=Europe/Berlin:20231104T100000
DTEND;TZID=Europe/Berlin:20231104T160000
GEO:51.2259968;6.7714997
END:VEVENT
END:VCALENDAR