BEGIN:VCALENDAR
VERSION:2.0
PRODID:https://gar-nrw.de/
NAME:GAR NRW
X-WR-CALNAME:GAR NRW
BEGIN:VTIMEZONE
TZID:Europe/Berlin
BEGIN:DAYLIGHT
DTSTART:20230326T010000
TZOFFSETFROM:+0100
TZOFFSETTO:+0200
END:DAYLIGHT
BEGIN:STANDARD
DTSTART:20231029T030000
TZOFFSETFROM:+0200
TZOFFSETTO:+0100
END:STANDARD
BEGIN:DAYLIGHT
DTSTART:20240331T010000
TZOFFSETFROM:+0100
TZOFFSETTO:+0200
END:DAYLIGHT
END:VTIMEZONE
BEGIN:VTIMEZONE
TZID:UTC
BEGIN:STANDARD
DTSTART:20250725T082533
TZOFFSETFROM:+0000
TZOFFSETTO:+0000
END:STANDARD
END:VTIMEZONE
BEGIN:VEVENT
UID:69e7347d91678
DTSTAMP:20260421T082533Z
SUMMARY:Gesprächs-und Konflikttraining für Fraktionsvorsitzende
DESCRIPTION:Als Fraktionsvorsitzende*r ist man Ansprechpartner*in für die 
 Mitglieder der Fraktion\, die Vertreter*innen der anderen Fraktionen sowie
  die Presse. In dieser Funktion sollte man direkt und klar gleichzeitig je
 doch auch diplomatisch sein. Dabei stehen Fraktionsvorsitzende unter Beoba
 chtung der Öffentlichkeit und haben somit ein besonders hohes Maß an Ver
 antwortung\, auch für ihre sprachlichen Interventionen. Wir wollen Euch d
 abei unterstützen diesen Anforderungen besser gerecht zu werden. Wie scha
 fft man Vertrauen? Wieviel Konflikt und wieviel Konsens sind erträglich? 
 Wie führt man Gespräche? Wie löst man Konflikte bevor sie eskalieren? \
 nEin Seminar für alle Fraktionsvorsitzenden in den kommunalen Parlamenten
 .
LOCATION:
URL:https://gar-nrw.de/seminare/gespraechs-und-konflikttraining-fuer-frakti
 onsvorsitzende
DTSTART;TZID=Europe/Berlin:20231209T100000
DTEND;TZID=Europe/Berlin:20231209T150000
END:VEVENT
END:VCALENDAR